Package: scatterHatch Version: 1.12.0 Command: /home/biocbuild/R/R/bin/R CMD build --keep-empty-dirs --no-resave-data scatterHatch StartedAt: 2025-01-31 02:25:15 -0000 (Fri, 31 Jan 2025) EndedAt: 2025-01-31 02:26:00 -0000 (Fri, 31 Jan 2025) EllapsedTime: 45.1 seconds RetCode: 0 Status: OK PackageFile: scatterHatch_1.12.0.tar.gz PackageFileSize: 1.647 MiB