Package: scatterHatch Version: 1.12.0 Command: F:\biocbuild\bbs-3.20-bioc\R\bin\R.exe CMD INSTALL scatterHatch StartedAt: 2025-01-30 15:33:25 -0500 (Thu, 30 Jan 2025) EndedAt: 2025-01-30 15:33:45 -0500 (Thu, 30 Jan 2025) EllapsedTime: 20.4 seconds RetCode: 0 Status: OK