Package: scatterHatch Version: 1.12.0 Command: /Library/Frameworks/R.framework/Resources/bin/R CMD check --install=check:scatterHatch.install-out.txt --library=/Library/Frameworks/R.framework/Resources/library --no-vignettes --timings scatterHatch_1.12.0.tar.gz StartedAt: 2025-02-01 08:03:50 -0500 (Sat, 01 Feb 2025) EndedAt: 2025-02-01 08:05:40 -0500 (Sat, 01 Feb 2025) EllapsedTime: 109.8 seconds RetCode: 0 Status: OK CheckDir: scatterHatch.Rcheck Warnings: 0