Package: scTreeViz Version: 1.12.0 Command: F:\biocbuild\bbs-3.20-bioc\R\bin\R.exe CMD check --no-multiarch --install=check:scTreeViz.install-out.txt --library=F:\biocbuild\bbs-3.20-bioc\R\library --no-vignettes --timings scTreeViz_1.12.0.tar.gz StartedAt: 2025-01-31 06:19:32 -0500 (Fri, 31 Jan 2025) EndedAt: 2025-01-31 06:30:37 -0500 (Fri, 31 Jan 2025) EllapsedTime: 665.1 seconds RetCode: 0 Status: OK CheckDir: scTreeViz.Rcheck Warnings: 0