Package: scTreeViz Version: 1.12.0 Command: /home/biocbuild/bbs-3.20-bioc/R/bin/R CMD check --install=check:scTreeViz.install-out.txt --library=/home/biocbuild/bbs-3.20-bioc/R/site-library --timings scTreeViz_1.12.0.tar.gz StartedAt: 2025-01-31 02:11:24 -0500 (Fri, 31 Jan 2025) EndedAt: 2025-01-31 02:20:37 -0500 (Fri, 31 Jan 2025) EllapsedTime: 553.6 seconds RetCode: 0 Status: OK CheckDir: scTreeViz.Rcheck Warnings: 0