Package: scTreeViz Version: 1.12.0 Command: rm -rf scTreeViz.buildbin-libdir && mkdir scTreeViz.buildbin-libdir && /Users/biocbuild/BBS/utils/build-universal.sh scTreeViz_1.12.0.tar.gz /Library/Frameworks/R.framework/Resources/bin/R scTreeViz.buildbin-libdir StartedAt: 2025-01-31 13:40:32 -0500 (Fri, 31 Jan 2025) EndedAt: 2025-01-31 13:43:08 -0500 (Fri, 31 Jan 2025) EllapsedTime: 155.2 seconds RetCode: 0 Status: OK PackageFile: scTreeViz_1.12.0.tgz PackageFileSize: 2.619 MiB