Package: scTreeViz Version: 1.12.0 Command: rm -rf scTreeViz.buildbin-libdir && mkdir scTreeViz.buildbin-libdir && /Users/biocbuild/BBS/utils/build-universal.sh scTreeViz_1.12.0.tar.gz /Library/Frameworks/R.framework/Resources/bin/R scTreeViz.buildbin-libdir StartedAt: 2025-02-01 16:50:15 -0500 (Sat, 01 Feb 2025) EndedAt: 2025-02-01 16:51:42 -0500 (Sat, 01 Feb 2025) EllapsedTime: 86.9 seconds RetCode: 0 Status: OK PackageFile: scTreeViz_1.12.0.tgz PackageFileSize: 2.619 MiB