Package: scMultiSim Version: 1.2.0 Command: /home/biocbuild/R/R/bin/R CMD INSTALL scMultiSim StartedAt: 2025-01-30 20:33:19 -0000 (Thu, 30 Jan 2025) EndedAt: 2025-01-30 20:33:52 -0000 (Thu, 30 Jan 2025) EllapsedTime: 32.7 seconds RetCode: 0 Status: OK