Package: scMultiSim Version: 1.2.0 Command: /Library/Frameworks/R.framework/Resources/bin/R CMD build --keep-empty-dirs --no-resave-data scMultiSim StartedAt: 2025-01-30 22:38:50 -0500 (Thu, 30 Jan 2025) EndedAt: 2025-01-30 22:57:30 -0500 (Thu, 30 Jan 2025) EllapsedTime: 1119.8 seconds RetCode: 0 Status: OK PackageFile: scMultiSim_1.2.0.tar.gz PackageFileSize: 5.399 MiB