Package: scMultiSim Version: 1.2.0 Command: /Library/Frameworks/R.framework/Resources/bin/R CMD check --install=check:scMultiSim.install-out.txt --library=/Library/Frameworks/R.framework/Resources/library --no-vignettes --timings scMultiSim_1.2.0.tar.gz StartedAt: 2025-02-01 08:30:30 -0500 (Sat, 01 Feb 2025) EndedAt: 2025-02-01 08:34:26 -0500 (Sat, 01 Feb 2025) EllapsedTime: 236.6 seconds RetCode: 0 Status: OK CheckDir: scMultiSim.Rcheck Warnings: 0