Package: scMultiSim Version: 1.2.0 Command: /Library/Frameworks/R.framework/Resources/bin/R CMD build --keep-empty-dirs --no-resave-data scMultiSim StartedAt: 2025-01-31 07:27:31 -0500 (Fri, 31 Jan 2025) EndedAt: 2025-01-31 07:39:24 -0500 (Fri, 31 Jan 2025) EllapsedTime: 713.2 seconds RetCode: 0 Status: OK PackageFile: scMultiSim_1.2.0.tar.gz PackageFileSize: 5.404 MiB