Package: scMitoMut Version: 1.2.0 Command: /home/biocbuild/R/R/bin/R CMD INSTALL scMitoMut StartedAt: 2025-01-30 20:13:45 -0000 (Thu, 30 Jan 2025) EndedAt: 2025-01-30 20:14:16 -0000 (Thu, 30 Jan 2025) EllapsedTime: 31.2 seconds RetCode: 0 Status: OK