Package: scMitoMut Version: 1.2.0 Command: /Library/Frameworks/R.framework/Resources/bin/R CMD build --keep-empty-dirs --no-resave-data scMitoMut StartedAt: 2025-01-30 22:38:04 -0500 (Thu, 30 Jan 2025) EndedAt: 2025-01-30 22:40:01 -0500 (Thu, 30 Jan 2025) EllapsedTime: 116.5 seconds RetCode: 0 Status: OK PackageFile: scMitoMut_1.2.0.tar.gz PackageFileSize: 1.272 MiB