Package: scMitoMut Version: 1.2.0 Command: rm -rf scMitoMut.buildbin-libdir && mkdir scMitoMut.buildbin-libdir && /Users/biocbuild/BBS/utils/build-universal.sh scMitoMut_1.2.0.tar.gz /Library/Frameworks/R.framework/Resources/bin/R scMitoMut.buildbin-libdir StartedAt: 2025-01-31 13:38:58 -0500 (Fri, 31 Jan 2025) EndedAt: 2025-01-31 13:39:43 -0500 (Fri, 31 Jan 2025) EllapsedTime: 45.0 seconds RetCode: 0 Status: OK PackageFile: scMitoMut_1.2.0.tgz PackageFileSize: 1.303 MiB