Package: scMitoMut Version: 1.2.0 Command: rm -rf scMitoMut.buildbin-libdir && mkdir scMitoMut.buildbin-libdir && /Users/biocbuild/BBS/utils/build-universal.sh scMitoMut_1.2.0.tar.gz /Library/Frameworks/R.framework/Resources/bin/R scMitoMut.buildbin-libdir StartedAt: 2025-02-01 16:46:35 -0500 (Sat, 01 Feb 2025) EndedAt: 2025-02-01 16:46:58 -0500 (Sat, 01 Feb 2025) EllapsedTime: 22.6 seconds RetCode: 0 Status: OK PackageFile: scMitoMut_1.2.0.tgz PackageFileSize: 1.302 MiB