Package: scHOT Version: 1.18.0 Command: /Library/Frameworks/R.framework/Resources/bin/R CMD INSTALL scHOT StartedAt: 2025-01-30 15:29:51 -0500 (Thu, 30 Jan 2025) EndedAt: 2025-01-30 15:30:51 -0500 (Thu, 30 Jan 2025) EllapsedTime: 60.6 seconds RetCode: 0 Status: OK