Package: scHOT Version: 1.18.0 Command: /Library/Frameworks/R.framework/Resources/bin/R CMD build --keep-empty-dirs --no-resave-data scHOT StartedAt: 2025-01-31 07:23:06 -0500 (Fri, 31 Jan 2025) EndedAt: 2025-01-31 07:25:07 -0500 (Fri, 31 Jan 2025) EllapsedTime: 120.3 seconds RetCode: 0 Status: OK PackageFile: scHOT_1.18.0.tar.gz PackageFileSize: 2.314 MiB