Package: scBFA Version: 1.20.0 Command: F:\biocbuild\bbs-3.20-bioc\R\bin\R.exe CMD INSTALL scBFA StartedAt: 2025-01-30 16:34:05 -0500 (Thu, 30 Jan 2025) EndedAt: 2025-01-30 16:34:59 -0500 (Thu, 30 Jan 2025) EllapsedTime: 54.5 seconds RetCode: 0 Status: OK