Package: scBFA Version: 1.20.0 Command: /Library/Frameworks/R.framework/Resources/bin/R CMD check --install=check:scBFA.install-out.txt --library=/Library/Frameworks/R.framework/Resources/library --no-vignettes --timings scBFA_1.20.0.tar.gz StartedAt: 2025-02-01 08:03:58 -0500 (Sat, 01 Feb 2025) EndedAt: 2025-02-01 08:10:17 -0500 (Sat, 01 Feb 2025) EllapsedTime: 379.6 seconds RetCode: 0 Status: OK CheckDir: scBFA.Rcheck Warnings: 0