Package: saseR Version: 1.2.0 Command: /home/biocbuild/R/R/bin/R CMD build --keep-empty-dirs --no-resave-data saseR StartedAt: 2025-01-31 02:23:08 -0000 (Fri, 31 Jan 2025) EndedAt: 2025-01-31 02:27:11 -0000 (Fri, 31 Jan 2025) EllapsedTime: 243.3 seconds RetCode: 0 Status: OK PackageFile: saseR_1.2.0.tar.gz PackageFileSize: 1.231 MiB