Package: saseR Version: 1.2.0 Command: F:\biocbuild\bbs-3.20-bioc\R\bin\R.exe CMD INSTALL saseR StartedAt: 2025-01-30 16:41:02 -0500 (Thu, 30 Jan 2025) EndedAt: 2025-01-30 16:42:15 -0500 (Thu, 30 Jan 2025) EllapsedTime: 72.8 seconds RetCode: 0 Status: OK