Package: saseR Version: 1.2.0 Command: /Library/Frameworks/R.framework/Resources/bin/R CMD INSTALL saseR StartedAt: 2025-01-30 16:27:00 -0500 (Thu, 30 Jan 2025) EndedAt: 2025-01-30 16:29:01 -0500 (Thu, 30 Jan 2025) EllapsedTime: 120.9 seconds RetCode: 0 Status: OK