Package: sangerseqR Version: 1.42.0 Command: /home/biocbuild/R/R/bin/R CMD check --install=check:sangerseqR.install-out.txt --library=/home/biocbuild/R/R/site-library --no-vignettes --timings sangerseqR_1.42.0.tar.gz StartedAt: 2025-01-31 10:02:01 -0000 (Fri, 31 Jan 2025) EndedAt: 2025-01-31 10:05:02 -0000 (Fri, 31 Jan 2025) EllapsedTime: 181.2 seconds RetCode: 0 Status: OK CheckDir: sangerseqR.Rcheck Warnings: 0