Package: sangerseqR Version: 1.42.0 Command: /home/biocbuild/R/R/bin/R CMD build --keep-empty-dirs --no-resave-data sangerseqR StartedAt: 2025-01-31 02:22:24 -0000 (Fri, 31 Jan 2025) EndedAt: 2025-01-31 02:23:10 -0000 (Fri, 31 Jan 2025) EllapsedTime: 46.0 seconds RetCode: 0 Status: OK PackageFile: sangerseqR_1.42.0.tar.gz PackageFileSize: 2.125 MiB