Package: sangerseqR Version: 1.42.0 Command: /home/biocbuild/bbs-3.20-bioc/R/bin/R CMD INSTALL sangerseqR StartedAt: 2025-01-30 15:34:26 -0500 (Thu, 30 Jan 2025) EndedAt: 2025-01-30 15:34:41 -0500 (Thu, 30 Jan 2025) EllapsedTime: 14.8 seconds RetCode: 0 Status: OK