Package: sangerseqR Version: 1.42.0 Command: /Library/Frameworks/R.framework/Resources/bin/R CMD check --install=check:sangerseqR.install-out.txt --library=/Library/Frameworks/R.framework/Resources/library --no-vignettes --timings sangerseqR_1.42.0.tar.gz StartedAt: 2025-01-31 09:25:45 -0500 (Fri, 31 Jan 2025) EndedAt: 2025-01-31 09:30:21 -0500 (Fri, 31 Jan 2025) EllapsedTime: 276.0 seconds RetCode: 0 Status: OK CheckDir: sangerseqR.Rcheck Warnings: 0