Package: sampleClassifier Version: 1.30.0 Command: /home/biocbuild/bbs-3.20-bioc/R/bin/R CMD build --keep-empty-dirs --no-resave-data --md5 sampleClassifier StartedAt: 2025-01-30 18:57:19 -0500 (Thu, 30 Jan 2025) EndedAt: 2025-01-30 18:59:32 -0500 (Thu, 30 Jan 2025) EllapsedTime: 133.2 seconds RetCode: 0 Status: OK PackageFile: sampleClassifier_1.30.0.tar.gz PackageFileSize: 238.7 KiB