Package: safe Version: 3.46.0 Command: /home/biocbuild/bbs-3.20-bioc/R/bin/R CMD INSTALL safe StartedAt: 2025-01-30 15:19:41 -0500 (Thu, 30 Jan 2025) EndedAt: 2025-01-30 15:19:55 -0500 (Thu, 30 Jan 2025) EllapsedTime: 14.0 seconds RetCode: 0 Status: OK