Package: safe Version: 3.46.0 Command: /home/biocbuild/bbs-3.20-bioc/R/bin/R CMD build --keep-empty-dirs --no-resave-data --md5 safe StartedAt: 2025-01-30 18:57:11 -0500 (Thu, 30 Jan 2025) EndedAt: 2025-01-30 19:01:05 -0500 (Thu, 30 Jan 2025) EllapsedTime: 233.3 seconds RetCode: 0 Status: OK PackageFile: safe_3.46.0.tar.gz PackageFileSize: 715.1 KiB