Package: rtracklayer Version: 1.66.0 Command: /home/biocbuild/R/R/bin/R CMD check --install=check:rtracklayer.install-out.txt --library=/home/biocbuild/R/R/site-library --no-vignettes --timings rtracklayer_1.66.0.tar.gz StartedAt: 2025-01-31 09:57:45 -0000 (Fri, 31 Jan 2025) EndedAt: 2025-01-31 10:04:57 -0000 (Fri, 31 Jan 2025) EllapsedTime: 432.5 seconds RetCode: 0 Status: WARNINGS CheckDir: rtracklayer.Rcheck Warnings: 5