Package: roastgsa Version: 1.4.0 Command: /home/biocbuild/R/R/bin/R CMD INSTALL roastgsa StartedAt: 2025-01-30 20:13:21 -0000 (Thu, 30 Jan 2025) EndedAt: 2025-01-30 20:13:33 -0000 (Thu, 30 Jan 2025) EllapsedTime: 11.5 seconds RetCode: 0 Status: OK