Package: roastgsa Version: 1.4.0 Command: /home/biocbuild/R/R/bin/R CMD check --install=check:roastgsa.install-out.txt --library=/home/biocbuild/R/R/site-library --no-vignettes --timings roastgsa_1.4.0.tar.gz StartedAt: 2025-01-31 09:50:46 -0000 (Fri, 31 Jan 2025) EndedAt: 2025-01-31 09:51:49 -0000 (Fri, 31 Jan 2025) EllapsedTime: 63.0 seconds RetCode: 0 Status: OK CheckDir: roastgsa.Rcheck Warnings: 0