Package: roastgsa Version: 1.4.0 Command: /home/biocbuild/bbs-3.20-bioc/R/bin/R CMD INSTALL roastgsa StartedAt: 2025-01-30 15:09:52 -0500 (Thu, 30 Jan 2025) EndedAt: 2025-01-30 15:09:58 -0500 (Thu, 30 Jan 2025) EllapsedTime: 6.5 seconds RetCode: 0 Status: OK