Package: roastgsa Version: 1.4.0 Command: rm -rf roastgsa.buildbin-libdir && mkdir roastgsa.buildbin-libdir && /Users/biocbuild/BBS/utils/build-universal.sh roastgsa_1.4.0.tar.gz /Library/Frameworks/R.framework/Resources/bin/R roastgsa.buildbin-libdir StartedAt: 2025-02-01 16:36:25 -0500 (Sat, 01 Feb 2025) EndedAt: 2025-02-01 16:36:35 -0500 (Sat, 01 Feb 2025) EllapsedTime: 10.2 seconds RetCode: 0 Status: OK PackageFile: roastgsa_1.4.0.tgz PackageFileSize: 2.255 MiB