Package: ribosomeProfilingQC Version: 1.18.0 Command: /home/biocbuild/R/R/bin/R CMD check --install=check:ribosomeProfilingQC.install-out.txt --library=/home/biocbuild/R/R/site-library --no-vignettes --timings ribosomeProfilingQC_1.18.0.tar.gz StartedAt: 2025-01-31 09:43:57 -0000 (Fri, 31 Jan 2025) EndedAt: 2025-01-31 09:54:15 -0000 (Fri, 31 Jan 2025) EllapsedTime: 618.5 seconds RetCode: 0 Status: OK CheckDir: ribosomeProfilingQC.Rcheck Warnings: 0