Package: ribosomeProfilingQC Version: 1.18.0 Command: /home/biocbuild/bbs-3.20-bioc/R/bin/R CMD build --keep-empty-dirs --no-resave-data --md5 ribosomeProfilingQC StartedAt: 2025-01-30 18:50:18 -0500 (Thu, 30 Jan 2025) EndedAt: 2025-01-30 18:54:38 -0500 (Thu, 30 Jan 2025) EllapsedTime: 260.3 seconds RetCode: 0 Status: OK PackageFile: ribosomeProfilingQC_1.18.0.tar.gz PackageFileSize: 3.542 MiB