Package: ribosomeProfilingQC Version: 1.18.0 Command: /Library/Frameworks/R.framework/Resources/bin/R CMD INSTALL ribosomeProfilingQC StartedAt: 2025-01-30 16:08:42 -0500 (Thu, 30 Jan 2025) EndedAt: 2025-01-30 16:10:35 -0500 (Thu, 30 Jan 2025) EllapsedTime: 113.4 seconds RetCode: 0 Status: OK