Package: ribosomeProfilingQC Version: 1.18.0 Command: rm -rf ribosomeProfilingQC.buildbin-libdir && mkdir ribosomeProfilingQC.buildbin-libdir && /Users/biocbuild/BBS/utils/build-universal.sh ribosomeProfilingQC_1.18.0.tar.gz /Library/Frameworks/R.framework/Resources/bin/R ribosomeProfilingQC.buildbin-libdir StartedAt: 2025-01-31 13:31:43 -0500 (Fri, 31 Jan 2025) EndedAt: 2025-01-31 13:33:41 -0500 (Fri, 31 Jan 2025) EllapsedTime: 118.5 seconds RetCode: 0 Status: OK PackageFile: ribosomeProfilingQC_1.18.0.tgz PackageFileSize: 3.82 MiB