Package: rhdf5 Version: 2.50.2 Command: /home/biocbuild/R/R/bin/R CMD INSTALL rhdf5 StartedAt: 2025-01-30 20:13:19 -0000 (Thu, 30 Jan 2025) EndedAt: 2025-01-30 20:13:44 -0000 (Thu, 30 Jan 2025) EllapsedTime: 25.6 seconds RetCode: 0 Status: OK