Package: rhdf5 Version: 2.50.2 Command: F:\biocbuild\bbs-3.20-bioc\R\bin\R.exe CMD INSTALL rhdf5 StartedAt: 2025-01-30 15:22:57 -0500 (Thu, 30 Jan 2025) EndedAt: 2025-01-30 15:24:35 -0500 (Thu, 30 Jan 2025) EllapsedTime: 97.8 seconds RetCode: 0 Status: OK