Package: rhdf5 Version: 2.50.2 Command: chmod a+r rhdf5 -R && F:\biocbuild\bbs-3.20-bioc\R\bin\R.exe CMD build --keep-empty-dirs --no-resave-data rhdf5 StartedAt: 2025-01-30 21:23:52 -0500 (Thu, 30 Jan 2025) EndedAt: 2025-01-30 21:26:41 -0500 (Thu, 30 Jan 2025) EllapsedTime: 169.2 seconds RetCode: 0 Status: OK PackageFile: rhdf5_2.50.2.tar.gz PackageFileSize: 1.2 MiB