Package: rfaRm Version: 1.18.0 Command: rm -rf rfaRm.buildbin-libdir && mkdir rfaRm.buildbin-libdir && F:\biocbuild\bbs-3.20-bioc\R\bin\R.exe CMD INSTALL --build --library=rfaRm.buildbin-libdir rfaRm_1.18.0.tar.gz StartedAt: 2025-01-31 09:25:52 -0500 (Fri, 31 Jan 2025) EndedAt: 2025-01-31 09:26:14 -0500 (Fri, 31 Jan 2025) EllapsedTime: 22.4 seconds RetCode: 0 Status: OK PackageFile: rfaRm_1.18.0.zip PackageFileSize: 480.8 KiB