Package: regutools Version: 1.18.0 Command: F:\biocbuild\bbs-3.20-bioc\R\bin\R.exe CMD check --no-multiarch --install=check:regutools.install-out.txt --library=F:\biocbuild\bbs-3.20-bioc\R\library --no-vignettes --timings regutools_1.18.0.tar.gz StartedAt: 2025-01-31 05:36:42 -0500 (Fri, 31 Jan 2025) EndedAt: 2025-01-31 05:45:57 -0500 (Fri, 31 Jan 2025) EllapsedTime: 555.3 seconds RetCode: 0 Status: OK CheckDir: regutools.Rcheck Warnings: 0