Package: recountmethylation Version: 1.16.0 Command: /home/biocbuild/R/R/bin/R CMD build --keep-empty-dirs --no-resave-data recountmethylation StartedAt: 2025-01-31 02:04:42 -0000 (Fri, 31 Jan 2025) EndedAt: 2025-01-31 02:06:56 -0000 (Fri, 31 Jan 2025) EllapsedTime: 134.1 seconds RetCode: 0 Status: OK PackageFile: recountmethylation_1.16.0.tar.gz PackageFileSize: 4.889 MiB