Package: reconsi Version: 1.18.0 Command: /Library/Frameworks/R.framework/Resources/bin/R CMD check --install=check:reconsi.install-out.txt --library=/Library/Frameworks/R.framework/Resources/library --no-vignettes --timings reconsi_1.18.0.tar.gz StartedAt: 2025-01-31 08:43:25 -0500 (Fri, 31 Jan 2025) EndedAt: 2025-01-31 08:50:18 -0500 (Fri, 31 Jan 2025) EllapsedTime: 412.9 seconds RetCode: 0 Status: OK CheckDir: reconsi.Rcheck Warnings: 0