Package: reconsi Version: 1.18.0 Command: /Library/Frameworks/R.framework/Resources/bin/R CMD check --install=check:reconsi.install-out.txt --library=/Library/Frameworks/R.framework/Resources/library --no-vignettes --timings reconsi_1.18.0.tar.gz StartedAt: 2025-02-01 06:10:30 -0500 (Sat, 01 Feb 2025) EndedAt: 2025-02-01 06:13:47 -0500 (Sat, 01 Feb 2025) EllapsedTime: 197.5 seconds RetCode: 0 Status: OK CheckDir: reconsi.Rcheck Warnings: 0