Package: rbsurv Version: 2.64.0 Command: /Library/Frameworks/R.framework/Resources/bin/R CMD INSTALL rbsurv StartedAt: 2025-01-30 17:23:18 -0500 (Thu, 30 Jan 2025) EndedAt: 2025-01-30 17:23:26 -0500 (Thu, 30 Jan 2025) EllapsedTime: 8.1 seconds RetCode: 0 Status: OK