Package: rbsurv Version: 2.64.0 Command: /Library/Frameworks/R.framework/Resources/bin/R CMD check --install=check:rbsurv.install-out.txt --library=/Library/Frameworks/R.framework/Resources/library --no-vignettes --timings rbsurv_2.64.0.tar.gz StartedAt: 2025-02-01 06:00:25 -0500 (Sat, 01 Feb 2025) EndedAt: 2025-02-01 06:01:17 -0500 (Sat, 01 Feb 2025) EllapsedTime: 52.2 seconds RetCode: 0 Status: OK CheckDir: rbsurv.Rcheck Warnings: 0