Package: rawrr Version: 1.14.0 Command: chmod a+r rawrr -R && F:\biocbuild\bbs-3.20-bioc\R\bin\R.exe CMD build --keep-empty-dirs --no-resave-data rawrr StartedAt: 2025-01-30 21:15:21 -0500 (Thu, 30 Jan 2025) EndedAt: 2025-01-30 21:16:47 -0500 (Thu, 30 Jan 2025) EllapsedTime: 86.2 seconds RetCode: 0 Status: OK PackageFile: rawrr_1.14.0.tar.gz PackageFileSize: 1.379 MiB