Package: rawrr Version: 1.14.0 Command: /Library/Frameworks/R.framework/Resources/bin/R CMD build --keep-empty-dirs --no-resave-data rawrr StartedAt: 2025-01-31 06:06:39 -0500 (Fri, 31 Jan 2025) EndedAt: 2025-01-31 06:07:33 -0500 (Fri, 31 Jan 2025) EllapsedTime: 54.1 seconds RetCode: 0 Status: OK PackageFile: rawrr_1.14.0.tar.gz PackageFileSize: 1.959 MiB